BEGIN:VCALENDAR
VERSION:2.0
PRODID:-//frconline.org//NONSGML kigkonsult.se iCalcreator 2.30.10//
CALSCALE:GREGORIAN
METHOD:PUBLISH
UID:9dca3a7d-88e8-4958-80fa-747de6e0fdb7
X-WR-CALDESC:A SUPPORT group not a class!\nA group of 7-12 foster/kinship p
 arents and two trained group leaders\n16 weekly 90-minute sessions\nA time
  to connect with other foster parents and kinship families\nYou will recei
 ve a $25 check for each remote session attended per household\nYou can ear
 n up to 24 foster parent training hours toward DHS certification\nAll DHS-
 certified foster parents and kinship families can join!
X-WR-RELCALID:512505909e7bfe9af53255f1f60eea1b
X-WR-TIMEZONE:America/Los_Angeles
BEGIN:VTIMEZONE
TZID:America/Los_Angeles
BEGIN:STANDARD
TZNAME:PST
DTSTART:20231105T020000
TZOFFSETFROM:-0700
TZOFFSETTO:-0800
RDATE:20241103T020000
RDATE:20251102T020000
END:STANDARD
BEGIN:DAYLIGHT
TZNAME:PDT
DTSTART:20240310T020000
TZOFFSETFROM:-0800
TZOFFSETTO:-0700
RDATE:20250309T020000
RDATE:20260308T020000
END:DAYLIGHT
END:VTIMEZONE
BEGIN:VEVENT
UID:73f6746e-8a72-43c1-938b-66a10f93b0eb
DTSTAMP:20260424T121909Z
DESCRIPTION:A SUPPORT group not a class!\nA group of 7-12 foster/kinship pa
 rents and two trained group leaders\n16 weekly 90-minute sessions\nA time 
 to connect with other foster parents and kinship families\nYou will receiv
 e a $25 check for each remote session attended per household\nYou can earn
  up to 24 foster parent training hours toward DHS certification\nAll DHS-c
 ertified foster parents and kinship families can join!
DTSTART;TZID=America/Los_Angeles:20240930T180000
DTEND;TZID=America/Los_Angeles:20240930T193000
LOCATION:Class held on Zoom
SUMMARY:Keep Safe
END:VEVENT
END:VCALENDAR
