BEGIN:VCALENDAR
VERSION:2.0
PRODID:-//frconline.org//NONSGML kigkonsult.se iCalcreator 2.30.10//
CALSCALE:GREGORIAN
METHOD:PUBLISH
UID:a9cbe65d-991c-4a13-b2af-523b16ccfa1f
X-WR-CALDESC:This is fun interactive program that uses child-centered play 
 to develop positive relationships.
X-WR-RELCALID:3295afe63e11af67c2a317636f8fff3b
X-WR-TIMEZONE:America/Los_Angeles
BEGIN:VTIMEZONE
TZID:America/Los_Angeles
BEGIN:STANDARD
TZNAME:PST
DTSTART:20231105T020000
TZOFFSETFROM:-0700
TZOFFSETTO:-0800
RDATE:20241103T020000
RDATE:20251102T020000
END:STANDARD
BEGIN:DAYLIGHT
TZNAME:PDT
DTSTART:20240310T020000
TZOFFSETFROM:-0800
TZOFFSETTO:-0700
RDATE:20250309T020000
RDATE:20260308T020000
END:DAYLIGHT
END:VTIMEZONE
BEGIN:VEVENT
UID:09592faf-54a3-4a42-9ebe-ccb430a9dd25
DTSTAMP:20260424T135557Z
DESCRIPTION:This is fun interactive program that uses child-centered play t
 o develop positive relationships.
DTSTART;TZID=America/Los_Angeles:20240925T173000
DTEND;TZID=America/Los_Angeles:20240925T193000
LOCATION:Family Resource Center\, 1200 NE Twin Knolls Dr\, Bend\, OR 97701 
 US
SUMMARY:The Incredible Years
END:VEVENT
END:VCALENDAR
