BEGIN:VCALENDAR
VERSION:2.0
PRODID:-//frconline.org//NONSGML kigkonsult.se iCalcreator 2.30.10//
CALSCALE:GREGORIAN
METHOD:PUBLISH
UID:d6bde93d-e0f0-4842-99d5-dbe88b89a28d
X-WR-CALDESC:Zumbini is an early childhood program that uses music and move
 ment to promote cognitive\, social\, fine & gross motor skills\, and emoti
 onal development for children ages 0-4\, all while creating the ultimate b
 onding experience for you! Come experience the fun – no commitment necessa
 ry!
X-WR-RELCALID:ffac89681d77d7f8fef4a647bc9b4f5d
X-WR-TIMEZONE:America/Los_Angeles
BEGIN:VTIMEZONE
TZID:America/Los_Angeles
BEGIN:STANDARD
TZNAME:PST
DTSTART:20231105T020000
TZOFFSETFROM:-0700
TZOFFSETTO:-0800
RDATE:20241103T020000
RDATE:20251102T020000
END:STANDARD
BEGIN:DAYLIGHT
TZNAME:PDT
DTSTART:20240310T020000
TZOFFSETFROM:-0800
TZOFFSETTO:-0700
RDATE:20250309T020000
RDATE:20260308T020000
END:DAYLIGHT
END:VTIMEZONE
BEGIN:VEVENT
UID:9de2ed1f-d6ba-4f86-81bd-27264007422e
DTSTAMP:20260424T121822Z
DESCRIPTION:Zumbini is an early childhood program that uses music and movem
 ent to promote cognitive\, social\, fine & gross motor skills\, and emotio
 nal development for children ages 0-4\, all while creating the ultimate bo
 nding experience for you! Come experience the fun – no commitment necessar
 y!
DTSTART;TZID=America/Los_Angeles:20240924T100000
DTEND;TZID=America/Los_Angeles:20240924T104500
LOCATION:Family Resource Center\, 2500 NE Twin Knolls Dr\, Bend\, OR 97701 
 US
SUMMARY:Zumbini
END:VEVENT
END:VCALENDAR
