BEGIN:VCALENDAR
VERSION:2.0
PRODID:-//frconline.org//NONSGML kigkonsult.se iCalcreator 2.30.10//
CALSCALE:GREGORIAN
METHOD:PUBLISH
UID:4c03ca43-9678-4279-baa2-c2765e21b398
X-WR-CALDESC:Learn about technology & social media \nHow brain development 
 affects teen behavior and decision-making    \nImprove communication & mor
 e!\n
X-WR-RELCALID:f803325ef13650426c51817df0327e33
X-WR-TIMEZONE:America/Los_Angeles
BEGIN:VTIMEZONE
TZID:America/Los_Angeles
BEGIN:STANDARD
TZNAME:PST
DTSTART:20231105T020000
TZOFFSETFROM:-0700
TZOFFSETTO:-0800
RDATE:20241103T020000
RDATE:20251102T020000
END:STANDARD
BEGIN:DAYLIGHT
TZNAME:PDT
DTSTART:20240310T020000
TZOFFSETFROM:-0800
TZOFFSETTO:-0700
RDATE:20250309T020000
END:DAYLIGHT
END:VTIMEZONE
BEGIN:VEVENT
UID:c24f9069-f264-48c4-96a5-b3ccd433d7a5
DTSTAMP:20260424T162034Z
DESCRIPTION:Learn about technology & social media \nHow brain development a
 ffects teen behavior and decision-making    \nImprove communication & more
 !\n
DTSTART;TZID=America/Los_Angeles:20240715T180000
DTEND;TZID=America/Los_Angeles:20240715T200000
LOCATION:Held on Zoom
SUMMARY:Active Parenting of Teens
END:VEVENT
END:VCALENDAR
