BEGIN:VCALENDAR
VERSION:2.0
PRODID:-//frconline.org//NONSGML kigkonsult.se iCalcreator 2.30.10//
CALSCALE:GREGORIAN
METHOD:PUBLISH
UID:3a42f6c2-d59e-4a1c-82b0-91172d05e1cf
X-WR-CALDESC:KEEP Kinship support groups provide relative caregivers a welc
 ome place to share experiences\, get tips and strategies\, and most import
 antly the support that is critical in this frequently stressful role. Clas
 s held on Zoom.
X-WR-RELCALID:cd7ce1a32eb4a1e3a47307e92c223c5e
X-WR-TIMEZONE:America/Los_Angeles
BEGIN:VTIMEZONE
TZID:America/Los_Angeles
BEGIN:STANDARD
TZNAME:PST
DTSTART:20231105T020000
TZOFFSETFROM:-0700
TZOFFSETTO:-0800
RDATE:20241103T020000
RDATE:20251102T020000
END:STANDARD
BEGIN:DAYLIGHT
TZNAME:PDT
DTSTART:20240310T020000
TZOFFSETFROM:-0800
TZOFFSETTO:-0700
RDATE:20250309T020000
END:DAYLIGHT
END:VTIMEZONE
BEGIN:VEVENT
UID:2792af26-3f8b-4d94-914f-e43f6010a8bd
DTSTAMP:20260424T161630Z
DESCRIPTION:KEEP Kinship support groups provide relative caregivers a welco
 me place to share experiences\, get tips and strategies\, and most importa
 ntly the support that is critical in this frequently stressful role. Class
  held on Zoom.
DTSTART;TZID=America/Los_Angeles:20240708T100000
DTEND;TZID=America/Los_Angeles:20240708T113000
LOCATION:
SUMMARY:KEEP Connecting Kin
END:VEVENT
END:VCALENDAR
