BEGIN:VCALENDAR
VERSION:2.0
PRODID:-//frconline.org//NONSGML kigkonsult.se iCalcreator 2.30.10//
CALSCALE:GREGORIAN
METHOD:PUBLISH
UID:5212a16b-c574-47a3-bd08-1eb961c124fa
X-WR-CALDESC:Learn about technology & social media \nHow brain development 
 affects teen behavior and decision-making    \nImprove communication & mor
 e!\n
X-WR-RELCALID:92980eb8bbcc81219b522f9d074860bc
X-WR-TIMEZONE:America/Los_Angeles
BEGIN:VTIMEZONE
TZID:America/Los_Angeles
BEGIN:STANDARD
TZNAME:PST
DTSTART:20231105T020000
TZOFFSETFROM:-0700
TZOFFSETTO:-0800
RDATE:20241103T020000
RDATE:20251102T020000
END:STANDARD
BEGIN:DAYLIGHT
TZNAME:PDT
DTSTART:20240310T020000
TZOFFSETFROM:-0800
TZOFFSETTO:-0700
RDATE:20250309T020000
END:DAYLIGHT
END:VTIMEZONE
BEGIN:VEVENT
UID:a30730bd-d3bd-4fff-9a35-e2221f70de82
DTSTAMP:20260424T165321Z
DESCRIPTION:Learn about technology & social media \nHow brain development a
 ffects teen behavior and decision-making    \nImprove communication & more
 !\n
DTSTART;TZID=America/Los_Angeles:20240701T180000
DTEND;TZID=America/Los_Angeles:20240701T200000
LOCATION:Held on Zoom
SUMMARY:Active Parenting of Teens
END:VEVENT
END:VCALENDAR
