BEGIN:VCALENDAR
VERSION:2.0
PRODID:-//frconline.org//NONSGML kigkonsult.se iCalcreator 2.30.10//
CALSCALE:GREGORIAN
METHOD:PUBLISH
UID:e04d5ccf-768e-4f47-b5f2-72e8bda8f1ea
X-WR-CALDESC:KEEP Kinship support groups provide relative caregivers a welc
 ome place to share experiences\, get tips and strategies\, and most import
 antly the support that is critical in this frequently stressful role. Clas
 s held on Zoom.
X-WR-RELCALID:3c1760be1009ac7014bf7200d575c899
X-WR-TIMEZONE:America/Los_Angeles
BEGIN:VTIMEZONE
TZID:America/Los_Angeles
BEGIN:STANDARD
TZNAME:PST
DTSTART:20231105T020000
TZOFFSETFROM:-0700
TZOFFSETTO:-0800
RDATE:20241103T020000
RDATE:20251102T020000
END:STANDARD
BEGIN:DAYLIGHT
TZNAME:PDT
DTSTART:20240310T020000
TZOFFSETFROM:-0800
TZOFFSETTO:-0700
RDATE:20250309T020000
END:DAYLIGHT
END:VTIMEZONE
BEGIN:VEVENT
UID:cd6bdd83-c2a0-4b13-89e0-9fe227dbff5e
DTSTAMP:20260424T161613Z
DESCRIPTION:KEEP Kinship support groups provide relative caregivers a welco
 me place to share experiences\, get tips and strategies\, and most importa
 ntly the support that is critical in this frequently stressful role. Class
  held on Zoom.
DTSTART;TZID=America/Los_Angeles:20240701T100000
DTEND;TZID=America/Los_Angeles:20240701T113000
LOCATION:
SUMMARY:KEEP Connecting Kin
END:VEVENT
END:VCALENDAR
