BEGIN:VCALENDAR
VERSION:2.0
PRODID:-//frconline.org//NONSGML kigkonsult.se iCalcreator 2.30.10//
CALSCALE:GREGORIAN
METHOD:PUBLISH
UID:a318df56-ba65-4e86-a3eb-6d21d0238bd2
X-WR-CALDESC:Learn about technology & social media \nHow brain development 
 affects teen behavior and decision-making    \nImprove communication & mor
 e!\n
X-WR-RELCALID:e3c3612f1c84fcc98a75161edf0bb823
X-WR-TIMEZONE:America/Los_Angeles
BEGIN:VTIMEZONE
TZID:America/Los_Angeles
BEGIN:STANDARD
TZNAME:PST
DTSTART:20231105T020000
TZOFFSETFROM:-0700
TZOFFSETTO:-0800
RDATE:20241103T020000
RDATE:20251102T020000
END:STANDARD
BEGIN:DAYLIGHT
TZNAME:PDT
DTSTART:20240310T020000
TZOFFSETFROM:-0800
TZOFFSETTO:-0700
RDATE:20250309T020000
END:DAYLIGHT
END:VTIMEZONE
BEGIN:VEVENT
UID:54fb16fc-b0e1-4b93-b352-9e6c390cda07
DTSTAMP:20260424T175541Z
DESCRIPTION:Learn about technology & social media \nHow brain development a
 ffects teen behavior and decision-making    \nImprove communication & more
 !\n
DTSTART;TZID=America/Los_Angeles:20240624T180000
DTEND;TZID=America/Los_Angeles:20240624T200000
LOCATION:Held on Zoom
SUMMARY:Active Parenting of Teens
END:VEVENT
END:VCALENDAR
