BEGIN:VCALENDAR
VERSION:2.0
PRODID:-//frconline.org//NONSGML kigkonsult.se iCalcreator 2.30.10//
CALSCALE:GREGORIAN
METHOD:PUBLISH
UID:85536bdb-c0e5-444a-945f-c5fa075377fc
X-WR-CALDESC:
X-WR-RELCALID:00bb95c4224b1e669afbf9be31a8ce2f
X-WR-TIMEZONE:America/Los_Angeles
BEGIN:VTIMEZONE
TZID:America/Los_Angeles
BEGIN:STANDARD
TZNAME:PST
DTSTART:20231105T020000
TZOFFSETFROM:-0700
TZOFFSETTO:-0800
RDATE:20241103T020000
RDATE:20251102T020000
END:STANDARD
BEGIN:DAYLIGHT
TZNAME:PDT
DTSTART:20240310T020000
TZOFFSETFROM:-0800
TZOFFSETTO:-0700
RDATE:20250309T020000
END:DAYLIGHT
END:VTIMEZONE
BEGIN:VEVENT
UID:2c34835a-23ad-45db-b84f-8d24f4a68e8b
DTSTAMP:20260424T175039Z
DESCRIPTION:
DTSTART;TZID=America/Los_Angeles:20240614T090000
DTEND;TZID=America/Los_Angeles:20240614T103000
LOCATION:Family Resource Center\, 2500 NE Twin Knolls Dr. Suite 130\, Bend 
 \, AL 97701 US
SUMMARY:First Aid & CPR
END:VEVENT
END:VCALENDAR
