BEGIN:VCALENDAR
VERSION:2.0
PRODID:-//frconline.org//NONSGML kigkonsult.se iCalcreator 2.30.10//
CALSCALE:GREGORIAN
METHOD:PUBLISH
UID:c93372d3-cc9f-4b02-a312-928b7f90e4c3
X-WR-CALDESC:KEEP is a statewide support program available to Oregon's reso
 urce\, kinship\, adoptive\, and assisted guardian parents raising youth ag
 es 2 and up.\n\nKEEP is free & eligible participants can earn up to 24 tra
 ining hours & $25 per household per week attended. \n\nShare and discuss h
 elpful parenting strategies!
X-WR-RELCALID:bf024cb580a95aed2c26658938b78b4a
X-WR-TIMEZONE:America/Los_Angeles
BEGIN:VTIMEZONE
TZID:America/Los_Angeles
BEGIN:STANDARD
TZNAME:PST
DTSTART:20231105T020000
TZOFFSETFROM:-0700
TZOFFSETTO:-0800
RDATE:20241103T020000
RDATE:20251102T020000
END:STANDARD
BEGIN:DAYLIGHT
TZNAME:PDT
DTSTART:20240310T020000
TZOFFSETFROM:-0800
TZOFFSETTO:-0700
RDATE:20250309T020000
END:DAYLIGHT
END:VTIMEZONE
BEGIN:VEVENT
UID:c123628c-a48e-48ef-9c64-94bbe7f77947
DTSTAMP:20260424T175106Z
DESCRIPTION:KEEP is a statewide support program available to Oregon's resou
 rce\, kinship\, adoptive\, and assisted guardian parents raising youth age
 s 2 and up.\n\nKEEP is free & eligible participants can earn up to 24 trai
 ning hours & $25 per household per week attended. \n\nShare and discuss he
 lpful parenting strategies!
DTSTART;TZID=America/Los_Angeles:20240604T100000
DTEND;TZID=America/Los_Angeles:20240604T113000
LOCATION:Zoom
SUMMARY:Keep Standard
END:VEVENT
END:VCALENDAR
