BEGIN:VCALENDAR
VERSION:2.0
PRODID:-//frconline.org//NONSGML kigkonsult.se iCalcreator 2.30.10//
CALSCALE:GREGORIAN
METHOD:PUBLISH
UID:f8c51269-a092-4b1b-a0e0-c218081adc00
X-WR-CALDESC:-A SUPPORT group not a class!\n-For foster parents caring for 
 adolescents ages 13-18 years old\n-A group of 7-12 foster/kinship parents 
 and two trained group leaders\n-A time to connect with other foster parent
 s and kinship families\n-You will receive a $25 check for each remote sess
 ion attended per household\n-You can earn up to 24 foster parent training 
 hours toward DHS certification
X-WR-RELCALID:df3713e9be34e89300e0a89a0ab95952
X-WR-TIMEZONE:America/Los_Angeles
BEGIN:VTIMEZONE
TZID:America/Los_Angeles
BEGIN:STANDARD
TZNAME:PST
DTSTART:20231105T020000
TZOFFSETFROM:-0700
TZOFFSETTO:-0800
RDATE:20241103T020000
RDATE:20251102T020000
END:STANDARD
BEGIN:DAYLIGHT
TZNAME:PDT
DTSTART:20240310T020000
TZOFFSETFROM:-0800
TZOFFSETTO:-0700
RDATE:20250309T020000
END:DAYLIGHT
END:VTIMEZONE
BEGIN:VEVENT
UID:ce3425d2-cf71-4280-b3ff-4ea5bb83b1af
DTSTAMP:20260424T192255Z
DESCRIPTION:-A SUPPORT group not a class!\n-For foster parents caring for a
 dolescents ages 13-18 years old\n-A group of 7-12 foster/kinship parents a
 nd two trained group leaders\n-A time to connect with other foster parents
  and kinship families\n-You will receive a $25 check for each remote sessi
 on attended per household\n-You can earn up to 24 foster parent training h
 ours toward DHS certification
DTSTART;TZID=America/Los_Angeles:20240516T180000
DTEND;TZID=America/Los_Angeles:20240516T193000
LOCATION:Zoom
SUMMARY:Keep Safe
END:VEVENT
END:VCALENDAR
