BEGIN:VCALENDAR
VERSION:2.0
PRODID:-//frconline.org//NONSGML kigkonsult.se iCalcreator 2.30.10//
CALSCALE:GREGORIAN
METHOD:PUBLISH
UID:6583165f-a8b7-4870-9207-7e06d083a47c
X-WR-CALDESC:Para padres con hijos recien nacidos - 5 años\nJueves de 5:30 
 a 7:30pm\n14 de Marzo al 16 de Mayo de 2024
X-WR-RELCALID:5ae448c96e215eba8502b80acd5a291e
X-WR-TIMEZONE:America/Los_Angeles
BEGIN:VTIMEZONE
TZID:America/Los_Angeles
BEGIN:STANDARD
TZNAME:PST
DTSTART:20231105T020000
TZOFFSETFROM:-0700
TZOFFSETTO:-0800
RDATE:20241103T020000
RDATE:20251102T020000
END:STANDARD
BEGIN:DAYLIGHT
TZNAME:PDT
DTSTART:20240310T020000
TZOFFSETFROM:-0800
TZOFFSETTO:-0700
RDATE:20250309T020000
END:DAYLIGHT
END:VTIMEZONE
BEGIN:VEVENT
UID:021844b6-2800-4c2f-8b31-89ad76cf4a6a
DTSTAMP:20260424T192914Z
DESCRIPTION:Para padres con hijos recien nacidos - 5 años\nJueves de 5:30 a
  7:30pm\n14 de Marzo al 16 de Mayo de 2024
DTSTART;TZID=America/Los_Angeles:20240516T173000
DTEND;TZID=America/Los_Angeles:20240516T193000
LOCATION:659 NE A St\, Madras\, OR 97741 US
SUMMARY:Círculo de Seguridad De Padres
END:VEVENT
END:VCALENDAR
