BEGIN:VCALENDAR
VERSION:2.0
PRODID:-//frconline.org//NONSGML kigkonsult.se iCalcreator 2.30.10//
CALSCALE:GREGORIAN
METHOD:PUBLISH
UID:d005414e-d61e-486b-aa4e-6f34e4fda24b
X-WR-CALDESC:Para padres con hijos recien nacidos - 5 años\nJueves de 5:30 
 a 7:30pm\n14 de Marzo al 16 de Mayo de 2024
X-WR-RELCALID:a04267d68a129981429b28e949b3ce73
X-WR-TIMEZONE:America/Los_Angeles
BEGIN:VTIMEZONE
TZID:America/Los_Angeles
BEGIN:STANDARD
TZNAME:PST
DTSTART:20231105T020000
TZOFFSETFROM:-0700
TZOFFSETTO:-0800
RDATE:20241103T020000
END:STANDARD
BEGIN:DAYLIGHT
TZNAME:PDT
DTSTART:20240310T020000
TZOFFSETFROM:-0800
TZOFFSETTO:-0700
RDATE:20250309T020000
END:DAYLIGHT
END:VTIMEZONE
BEGIN:VEVENT
UID:1d03b84c-f831-43cb-93a6-7b05514bb6cc
DTSTAMP:20260424T210123Z
DESCRIPTION:Para padres con hijos recien nacidos - 5 años\nJueves de 5:30 a
  7:30pm\n14 de Marzo al 16 de Mayo de 2024
DTSTART;TZID=America/Los_Angeles:20240411T173000
DTEND;TZID=America/Los_Angeles:20240411T193000
LOCATION:659 NE A St\, Madras\, OR 97741 US
SUMMARY:Círculo de Seguridad De Padres
END:VEVENT
END:VCALENDAR
