BEGIN:VCALENDAR
VERSION:2.0
PRODID:-//frconline.org//NONSGML kigkonsult.se iCalcreator 2.30.10//
CALSCALE:GREGORIAN
METHOD:PUBLISH
UID:33b6a8ef-2f89-45e1-b1be-08e23d6940e5
X-WR-CALDESC:Join a community of parents to:\n\n· Discover ways to manage s
 tress.\n\n· Learn about child development.\n\n· Build your toolkit for pos
 itive discipline.
X-WR-RELCALID:4df846db6269d16800ce2c2f4a49c39b
X-WR-TIMEZONE:America/Los_Angeles
BEGIN:VTIMEZONE
TZID:America/Los_Angeles
BEGIN:STANDARD
TZNAME:PST
DTSTART:20231105T020000
TZOFFSETFROM:-0700
TZOFFSETTO:-0800
RDATE:20241103T020000
END:STANDARD
BEGIN:DAYLIGHT
TZNAME:PDT
DTSTART:20240310T020000
TZOFFSETFROM:-0800
TZOFFSETTO:-0700
RDATE:20250309T020000
END:DAYLIGHT
END:VTIMEZONE
BEGIN:VEVENT
UID:2866732e-ad4a-4680-9ae3-894d17d80f76
DTSTAMP:20260424T205612Z
DESCRIPTION:Join a community of parents to:\n\n· Discover ways to manage st
 ress.\n\n· Learn about child development.\n\n· Build your toolkit for posi
 tive discipline.
DTSTART;TZID=America/Los_Angeles:20240403T173000
DTEND;TZID=America/Los_Angeles:20240403T193000
LOCATION:2500 NE Twin Knolls Dr.\, Suite 130\, Bend\, OR 97701 US
SUMMARY:Make Parenting A Pleasure
END:VEVENT
END:VCALENDAR
