BEGIN:VCALENDAR
VERSION:2.0
PRODID:-//frconline.org//NONSGML kigkonsult.se iCalcreator 2.30.10//
CALSCALE:GREGORIAN
METHOD:PUBLISH
UID:8a0328e1-bce2-40a9-a8bb-af190995829b
X-WR-CALDESC:Get a 2 year certification in First Aid and CPR.\n\nCost is $6
 5 - Scholarships available.
X-WR-RELCALID:fa7b29b946cc326d93adf24b053f364e
X-WR-TIMEZONE:America/Los_Angeles
BEGIN:VTIMEZONE
TZID:America/Los_Angeles
BEGIN:STANDARD
TZNAME:PST
DTSTART:20231105T020000
TZOFFSETFROM:-0700
TZOFFSETTO:-0800
RDATE:20241103T020000
END:STANDARD
BEGIN:DAYLIGHT
TZNAME:PDT
DTSTART:20240310T020000
TZOFFSETFROM:-0800
TZOFFSETTO:-0700
RDATE:20250309T020000
END:DAYLIGHT
END:VTIMEZONE
BEGIN:VEVENT
UID:8da350fb-fb90-47ff-839a-de50a590d145
DTSTAMP:20260424T223357Z
DESCRIPTION:Get a 2 year certification in First Aid and CPR.\n\nCost is $65
  - Scholarships available.
DTSTART;TZID=America/Los_Angeles:20240320T140000
DTEND;TZID=America/Los_Angeles:20240320T153000
LOCATION:2500 NE Twin Knolls Dr\, Suite 130\, Bend\, OR 97701 US
SUMMARY:First Aid and CPR Training
END:VEVENT
END:VCALENDAR
