BEGIN:VCALENDAR
VERSION:2.0
PRODID:-//frconline.org//NONSGML kigkonsult.se iCalcreator 2.30.10//
CALSCALE:GREGORIAN
METHOD:PUBLISH
UID:19dcb792-628f-479a-8af6-6153782be291
X-WR-CALDESC:Get a 2 year certification in CPR and First Aid. \n\nCost is $
 65 - Scholarships available.
X-WR-RELCALID:882b7452cb090afb5783a444daa8dc43
X-WR-TIMEZONE:America/Los_Angeles
BEGIN:VTIMEZONE
TZID:America/Los_Angeles
BEGIN:STANDARD
TZNAME:PST
DTSTART:20231105T020000
TZOFFSETFROM:-0700
TZOFFSETTO:-0800
RDATE:20241103T020000
END:STANDARD
BEGIN:DAYLIGHT
TZNAME:PDT
DTSTART:20230312T020000
TZOFFSETFROM:-0800
TZOFFSETTO:-0700
RDATE:20240310T020000
RDATE:20250309T020000
END:DAYLIGHT
END:VTIMEZONE
BEGIN:VEVENT
UID:df0f6aea-74a4-46d5-a813-967a2f3ea2f1
DTSTAMP:20260425T012408Z
DESCRIPTION:Get a 2 year certification in CPR and First Aid. \n\nCost is $6
 5 - Scholarships available.
DTSTART;TZID=America/Los_Angeles:20240228T090000
DTEND;TZID=America/Los_Angeles:20240228T103000
LOCATION:2500 NE Twin Knolls Dr\, Suite 130\, Bend\, OR 97701 US
SUMMARY:First Aid & CPR Training
END:VEVENT
END:VCALENDAR
