BEGIN:VCALENDAR
VERSION:2.0
PRODID:-//frconline.org//NONSGML kigkonsult.se iCalcreator 2.30.10//
CALSCALE:GREGORIAN
METHOD:PUBLISH
UID:79eee03b-4bfe-4cf8-ab83-2ef874cf5ccf
X-WR-CALDESC:For families with youth ages 10-17 years old.\nLearn about:\n-
 Technology & social media\n-How brain development affects teen behavior an
 d decision-making\n-Improve communication & more!\n\nHeld on Zoom
X-WR-RELCALID:414d45eaf6f570c6905b26c1677fc78c
X-WR-TIMEZONE:America/Los_Angeles
BEGIN:VTIMEZONE
TZID:America/Los_Angeles
BEGIN:STANDARD
TZNAME:PST
DTSTART:20231105T020000
TZOFFSETFROM:-0700
TZOFFSETTO:-0800
RDATE:20241103T020000
END:STANDARD
BEGIN:DAYLIGHT
TZNAME:PDT
DTSTART:20230312T020000
TZOFFSETFROM:-0800
TZOFFSETTO:-0700
RDATE:20240310T020000
RDATE:20250309T020000
END:DAYLIGHT
END:VTIMEZONE
BEGIN:VEVENT
UID:2fb24839-4438-43c0-a2c4-1b58056e409d
DTSTAMP:20260425T030334Z
DESCRIPTION:For families with youth ages 10-17 years old.\nLearn about:\n-T
 echnology & social media\n-How brain development affects teen behavior and
  decision-making\n-Improve communication & more!\n\nHeld on Zoom
DTSTART;TZID=America/Los_Angeles:20240125T173000
DTEND;TZID=America/Los_Angeles:20240125T193000
LOCATION:
SUMMARY:Active Parenting of Teens
END:VEVENT
END:VCALENDAR
