BEGIN:VCALENDAR
VERSION:2.0
PRODID:-//frconline.org//NONSGML kigkonsult.se iCalcreator 2.30.10//
CALSCALE:GREGORIAN
METHOD:PUBLISH
UID:90a370c1-9de8-450f-a44f-ef1ae4bddf33
X-WR-CALDESC:For families with youth ages 10-17 years old. \nLearn about:\n
 -Technology & social media\n-How brain development affects teen behavior a
 nd decision-making\n-Improve communication & more!\n\nWhen: Monday's 6:00-
 8:00pm\nWhere: Zoom\nCost: Free
X-WR-RELCALID:fce4c0a6fcc8842f3f6bd3ef8515758e
X-WR-TIMEZONE:America/Los_Angeles
BEGIN:VTIMEZONE
TZID:America/Los_Angeles
BEGIN:STANDARD
TZNAME:PST
DTSTART:20221106T020000
TZOFFSETFROM:-0700
TZOFFSETTO:-0800
RDATE:20231105T020000
RDATE:20241103T020000
END:STANDARD
BEGIN:DAYLIGHT
TZNAME:PDT
DTSTART:20230312T020000
TZOFFSETFROM:-0800
TZOFFSETTO:-0700
RDATE:20240310T020000
END:DAYLIGHT
END:VTIMEZONE
BEGIN:VEVENT
UID:d49928a5-c2c5-4d4c-9bef-39de3acaec4c
DTSTAMP:20260425T193039Z
DESCRIPTION:For families with youth ages 10-17 years old. \nLearn about:\n-
 Technology & social media\n-How brain development affects teen behavior an
 d decision-making\n-Improve communication & more!\n\nWhen: Monday's 6:00-8
 :00pm\nWhere: Zoom\nCost: Free
DTSTART;TZID=America/Los_Angeles:20230626T180000
DTEND;TZID=America/Los_Angeles:20230626T200000
LOCATION:Zoom
SUMMARY:Active Parenting of Teens_03
END:VEVENT
END:VCALENDAR
