BEGIN:VCALENDAR
VERSION:2.0
PRODID:-//frconline.org//NONSGML kigkonsult.se iCalcreator 2.30.10//
CALSCALE:GREGORIAN
METHOD:PUBLISH
UID:f666d271-65b8-4331-ae64-8e13f04851b0
X-WR-CALDESC:
X-WR-RELCALID:ebfa2a167edc61f7eb0bff019a44adda
X-WR-TIMEZONE:America/Los_Angeles
BEGIN:VTIMEZONE
TZID:America/Los_Angeles
BEGIN:STANDARD
TZNAME:PST
DTSTART:20221106T020000
TZOFFSETFROM:-0700
TZOFFSETTO:-0800
RDATE:20231105T020000
RDATE:20241103T020000
END:STANDARD
BEGIN:DAYLIGHT
TZNAME:PDT
DTSTART:20230312T020000
TZOFFSETFROM:-0800
TZOFFSETTO:-0700
RDATE:20240310T020000
END:DAYLIGHT
END:VTIMEZONE
BEGIN:VEVENT
UID:b600d227-3b2a-49eb-9414-b51dd4031e6c
DTSTAMP:20260425T141538Z
DESCRIPTION:
DTSTART;TZID=America/Los_Angeles:20230615T110000
DTEND;TZID=America/Los_Angeles:20230615T220000
LOCATION:61165 S Hwy 97\, Bend\, OR 97702 US
SUMMARY:Handel's Homemade Ice Cream
END:VEVENT
END:VCALENDAR
