BEGIN:VCALENDAR
VERSION:2.0
PRODID:-//frconline.org//NONSGML kigkonsult.se iCalcreator 2.30.10//
CALSCALE:GREGORIAN
METHOD:PUBLISH
UID:bbd55675-e2fd-453e-b15e-ec2c62163c4c
X-WR-CALDESC:Vengan en compañia de su familia para aprender como cultivar s
 u propias vegetales. \nVamos a tener una rifa para lost primeros 35 person
 as que asistan. En este evento todo lo que ocupa para plantar aquí lo vamo
 s a tener y lo que planta se lo lleva.
X-WR-RELCALID:b4bcb4bdd0be5919d1efec10375723cc
X-WR-TIMEZONE:America/Los_Angeles
BEGIN:VTIMEZONE
TZID:America/Los_Angeles
BEGIN:STANDARD
TZNAME:PST
DTSTART:20221106T020000
TZOFFSETFROM:-0700
TZOFFSETTO:-0800
RDATE:20231105T020000
RDATE:20241103T020000
END:STANDARD
BEGIN:DAYLIGHT
TZNAME:PDT
DTSTART:20230312T020000
TZOFFSETFROM:-0800
TZOFFSETTO:-0700
RDATE:20240310T020000
END:DAYLIGHT
END:VTIMEZONE
BEGIN:VEVENT
UID:ea9d1246-7b82-4bbb-8cd6-55d0601ce949
DTSTAMP:20260425T155145Z
DESCRIPTION:Vengan en compañia de su familia para aprender como cultivar su
  propias vegetales. \nVamos a tener una rifa para lost primeros 35 persona
 s que asistan. En este evento todo lo que ocupa para plantar aquí lo vamos
  a tener y lo que planta se lo lleva.
DTSTART;TZID=America/Los_Angeles:20230524T163000
DTEND;TZID=America/Los_Angeles:20230524T183000
LOCATION:Sahalee Park\, SE 7th St\, Madras\, OR 97741 US
SUMMARY:Festival Cultivo
END:VEVENT
END:VCALENDAR
