BEGIN:VCALENDAR
VERSION:2.0
PRODID:-//frconline.org//NONSGML kigkonsult.se iCalcreator 2.30.10//
CALSCALE:GREGORIAN
METHOD:PUBLISH
UID:06a890fc-99cf-41dc-9f33-dd43d66dc462
X-WR-CALDESC:Join us for a FREE\, bilingual evening of games\, activities\,
  and crafts. \nFood is provided and all families will go home with crafts 
 and local parenting resources.  \nThis event is for the WHOLE family -- al
 l ages are welcome. \n\nClick below to register!\n
X-WR-RELCALID:31d694dcbc151f6df3eec8062adb4e31
X-WR-TIMEZONE:America/Los_Angeles
BEGIN:VTIMEZONE
TZID:America/Los_Angeles
BEGIN:STANDARD
TZNAME:PST
DTSTART:20221106T020000
TZOFFSETFROM:-0700
TZOFFSETTO:-0800
RDATE:20231105T020000
END:STANDARD
BEGIN:DAYLIGHT
TZNAME:PDT
DTSTART:20220313T020000
TZOFFSETFROM:-0800
TZOFFSETTO:-0700
RDATE:20230312T020000
RDATE:20240310T020000
END:DAYLIGHT
END:VTIMEZONE
BEGIN:VEVENT
UID:6f431d30-4406-4894-ba2b-d2b72f79bd03
DTSTAMP:20260425T211817Z
DESCRIPTION:Join us for a FREE\, bilingual evening of games\, activities\, 
 and crafts. \nFood is provided and all families will go home with crafts a
 nd local parenting resources.  \nThis event is for the WHOLE family -- all
  ages are welcome. \n\nClick below to register!\n
DTSTART;TZID=America/Los_Angeles:20230208T173000
DTEND;TZID=America/Los_Angeles:20230208T190000
LOCATION:Jefferson County Middle School Cafeteria\, 1180 SE Kemper Way\, Ma
 dras\, OR 97741 US
SUMMARY:Family Summit - Madras
END:VEVENT
END:VCALENDAR
