BEGIN:VCALENDAR
VERSION:2.0
PRODID:-//frconline.org//NONSGML kigkonsult.se iCalcreator 2.30.10//
CALSCALE:GREGORIAN
METHOD:PUBLISH
UID:4346a106-eebe-4421-ad7d-cf31690735fe
X-WR-CALDESC:-A SUPPORT group not a class!\n-For foster parents caring for 
 adolescents ages 4-12 years old\n-A group of 7-12 foster/kinship parents a
 nd two trained group leaders\n-A time to connect with other foster parents
  and kinship families\n-You will receive a $25 check for each remote sessi
 on attended per household\n-You can earn up to 24 foster parent training h
 ours toward DHS certification\n\nCall Rosa at 541-389-5468 to reserve your
  spot today!\nAll DHS-certified foster parents and kinship families can jo
 in!
X-WR-RELCALID:cbf086267a5b23c6f8d49bad32f5eb08
X-WR-TIMEZONE:America/Los_Angeles
BEGIN:VTIMEZONE
TZID:America/Los_Angeles
BEGIN:STANDARD
TZNAME:PST
DTSTART:20221106T020000
TZOFFSETFROM:-0700
TZOFFSETTO:-0800
RDATE:20231105T020000
END:STANDARD
BEGIN:DAYLIGHT
TZNAME:PDT
DTSTART:20220313T020000
TZOFFSETFROM:-0800
TZOFFSETTO:-0700
RDATE:20230312T020000
RDATE:20240310T020000
END:DAYLIGHT
END:VTIMEZONE
BEGIN:VEVENT
UID:9df92628-7d3a-4fe7-b5a8-053694c43f01
DTSTAMP:20260425T225445Z
DESCRIPTION:-A SUPPORT group not a class!\n-For foster parents caring for a
 dolescents ages 4-12 years old\n-A group of 7-12 foster/kinship parents an
 d two trained group leaders\n-A time to connect with other foster parents 
 and kinship families\n-You will receive a $25 check for each remote sessio
 n attended per household\n-You can earn up to 24 foster parent training ho
 urs toward DHS certification\n\nCall Rosa at 541-389-5468 to reserve your 
 spot today!\nAll DHS-certified foster parents and kinship families can joi
 n!
DTSTART;TZID=America/Los_Angeles:20230117T180000
DTEND;TZID=America/Los_Angeles:20230117T193000
LOCATION:Zoom
SUMMARY:KEEP Standard
END:VEVENT
END:VCALENDAR
