BEGIN:VCALENDAR
VERSION:2.0
PRODID:-//frconline.org//NONSGML kigkonsult.se iCalcreator 2.30.10//
CALSCALE:GREGORIAN
METHOD:PUBLISH
UID:2d8200a7-eba2-4be1-9f61-ce64ce38db30
X-WR-CALDESC:Descubra formas de gestionar el estrés. Aprenda sobre el desar
 rollo infantil. Construya su conjunto de herramientas para la disciplina p
 ositiva.
X-WR-RELCALID:1b9c4d25723e580188854e492e270073
X-WR-TIMEZONE:America/Los_Angeles
BEGIN:VTIMEZONE
TZID:America/Los_Angeles
BEGIN:STANDARD
TZNAME:PST
DTSTART:20251102T020000
TZOFFSETFROM:-0700
TZOFFSETTO:-0800
RDATE:20261101T020000
END:STANDARD
BEGIN:DAYLIGHT
TZNAME:PDT
DTSTART:20260308T020000
TZOFFSETFROM:-0800
TZOFFSETTO:-0700
RDATE:20270314T020000
END:DAYLIGHT
END:VTIMEZONE
BEGIN:VEVENT
UID:874d8e40-42fc-48f2-9d3d-ad985e2ba214
DTSTAMP:20260421T083402Z
DESCRIPTION:Descubra formas de gestionar el estrés. Aprenda sobre el desarr
 ollo infantil. Construya su conjunto de herramientas para la disciplina po
 sitiva.
DTSTART;TZID=America/Los_Angeles:20260420T173000
DTEND;TZID=America/Los_Angeles:20260420T193000
LOCATION:Held on Zoom -Se llevará a cabo virtualmente a través de zoom
SUMMARY:Haga de la Paternidad un Placer
END:VEVENT
END:VCALENDAR
